Workbook
Name Schaltzeitumstellung: #REF!

Sheet Berechnung RLM
B2: Netze Hechingen GmbH & Co. KG | E2: ='Preisblatt 1 & 2'!I8 -> 46023
B4: Berechnung Netznutzungsentgelte Strom mit Leistungsmessung
B6: Eingabe
B8: Jahresentnahme | E8: kWh
B10: Leistung | E10: kW
B12: Anschlussnetzebene
B14: Preissystem | D14: jährlich
B16: Anzahl Messstellen
B18: Wandler kundenseitig gestellt?
B20: Ergebnis - Berechnung jährliches Netzentgelt
B22: Benutzungsstunden | D22: =IF(OR(D8="",D10=""),0,D8/D10) -> 0 | E22: h
B23: Leistungspreis | D23: =Berechnung!N12 -> 0 | E23: €
B24: Arbeitspreis | D24: =Berechnung!N11 -> 0 | E24: €
B25: Entgelte für Messstellenbetrieb | D25: =IF(D12="",0,Berechnung!N13) -> 0 | E25: €
B26: inkl. Messung
B28: Netznetzungsentgelt (netto) | D28: =IF(OR(D23="",D24="",D25=""),0,D23+D24+D25) -> 0 | E28: €
B29: Umsatzsteuer (19%) | D29: =IF(D28="",0,D28*19%) -> 0 | E29: €
B30: Netznetzungsentgelt (brutto) | D30: =IF(D28="",0,D28+D29) -> 0 | E30: €
B32: Spezifische Preise (netto)
B34: spezfischer Arbeitspreis | D34: =IF(D8="",0,D28/D8*100) -> 0 | E34: ct/kWh
B36: =IF(OR(D22<0,D22>8784),"Die Benutzungsstunden liegen außerhalb des gültigen Bereichs, bitte prüfen Sie die Jahresentnahme und die Leistung!","")

Sheet Berechnung SLP
B2: ='Berechnung RLM'!B2 -> Netze Hechingen GmbH & Co. KG | E2: ='Preisblatt 1 & 2'!I8 -> 46023
B4: Berechnung Netznutzungsentgelte Strom ohne Leistungsmessung
B6: Eingabe
B8: Jahresentnahme | E8: kWh
B10: Kundengruppe
B12: Inbetriebnahme
B14: Anlage nach §14a EnWG steuerbar?
B16: Messung
B18: seperate Messung für steuerbare Verbrauchseinrichtung nach §14a EnWG
B20: Netzentgelte für steuerbare Verbrauchseinrichtungen nach §14a EnWG
B22: Zusatzgerät
B24: Ergebnis - Berechnung jährliches Netzentgelt
B26: Arbeitspreis | D26: =IF(D20="pauschale Reduzierung",Berechnung!M26,IF('Berechnung SLP'!D20="prozentuale Reduzierung",Berechnung!M27,Berechnung!$N$20)) -> 0 | E26: €
B27: Grundpreis | D27: =Berechnung!N21 -> 0 | E27: €
B28: Entgelte für Messstellenbetrieb | D28: =IF(D16="",0,Berechnung!N22) -> 0 | E28: €
B29: inkl. Messung
B30: Entgelte für 2. Messstellenbetrieb mit iMs | D30: =Berechnung!D85 -> 0 | E30: €
B31: inkl. Messung
B32: Zusatzgerät | D32: =IF(D22="",0,Berechnung!N23) -> 0 | E32: €
B34: Netznetzungsentgelt (netto) | D34: =IF(D26="",0,D26+D27+D28+D30+D32) -> 0 | E34: €
B35: Umsatzsteuer (19%) | D35: =D34*0.19 -> 0 | E35: €
B36: Netznetzungsentgelt (brutto) | D36: =D34+D35 -> 0 | E36: €
B38: Spezifische Preise (netto)
B40: spezfischer Arbeitspreis | D40: =IF(D8="",0,D34/D8*100) -> 0 | E40: ct/kWh

Sheet Berechnung
N1: Auswahl Messung | P1: ja | Q1: Inbetriebnahme
B2: vorläufiges Preisblatt 2020 der Netznutzungsentgelte der SNG Hechingen GmbH & Co. KG - Stand: 07.10.2019 | N2: jährlich | P2: nein | Q2: vor dem 01.01.2024
N3: monatlich | Q3: ab dem 01.01.2024
B4: Preisblatt 1 | C4: Netzentgelte für Kunden mit registrierender Leistungsmessung1)
C6: Jahresleistungspreissystem | F6: Jahresbenutzungsdauer < 2.500 bn | H6: Jahresbenutzungsdauer > 2.500 bn
C7: Entnahme aus: | F7: Leistungspreis | G7: Arbeitspreis | H7: Leistungspreis | I7: Arbeitspreis | J7: Leistungspreis | K7: Arbeitsplreis
F8: € / kW * a | G8: ct / kWh | H8: € / kW * a | I8: ct / kWh | M8: Berechnung | N8: RLM
C9: HS/MS - NE 4 - Umspannung Hoch-/Mittelspannung | F9: ='Preisblatt 1 & 2'!F15 -> 17.19 | G9: ='Preisblatt 1 & 2'!G15 -> 5.49 | H9: ='Preisblatt 1 & 2'!H15 -> 147.36 | I9: ='Preisblatt 1 & 2'!I15 -> 0.28 | J9: =IF('Berechnung RLM'!$D$22>2500,Berechnung!H9,Berechnung!F9) -> 17.19 | K9: =IF('Berechnung RLM'!$D$22>2500,Berechnung!I9,Berechnung!G9) -> 5.49 | M9: Zeile NE | N9: =IF('Berechnung RLM'!D12="",0,MATCH('Berechnung RLM'!D12,Berechnung!C9:C13,0)) -> 0
C10: MS - NE 5 - Mittelspannung | F10: ='Preisblatt 1 & 2'!F16 -> 24.73 | G10: ='Preisblatt 1 & 2'!G16 -> 8.81 | H10: ='Preisblatt 1 & 2'!H16 -> 244.2 | I10: ='Preisblatt 1 & 2'!I16 -> 0.04 | J10: =IF('Berechnung RLM'!$D$22>2500,Berechnung!H10,Berechnung!F10) -> 24.73 | K10: =IF('Berechnung RLM'!$D$22>2500,Berechnung!I10,Berechnung!G10) -> 8.81 | M10: Benutzungsstunden | N10: ='Berechnung RLM'!D22 -> 0 | O10: h
C11: MS - NE 5 - Mittelspannung mit NS-Messung | F11: ='Preisblatt 1 & 2'!F16 -> 24.73 | G11: ='Preisblatt 1 & 2'!G16 -> 8.81 | H11: ='Preisblatt 1 & 2'!H16 -> 244.2 | I11: ='Preisblatt 1 & 2'!I16 -> 0.04 | J11: =IF('Berechnung RLM'!$D$22>2500,Berechnung!H11,Berechnung!F11) -> 24.73 | K11: =IF('Berechnung RLM'!$D$22>2500,Berechnung!I11,Berechnung!G11) -> 8.81 | M11: Arbeitspreis | N11: =IF(N9=0,0,INDEX($K$9:$K$13,$N$9,0)*'Berechnung RLM'!$D$8/100) -> 0 | O11: €
C12: MS/NS - NE 6 - Umspannung Mittel-/Niederspannung | F12: ='Preisblatt 1 & 2'!F17 -> 39.24 | G12: ='Preisblatt 1 & 2'!G17 -> 10.04 | H12: ='Preisblatt 1 & 2'!H17 -> 249.37 | I12: ='Preisblatt 1 & 2'!I17 -> 1.64 | J12: =IF('Berechnung RLM'!$D$22>2500,Berechnung!H12,Berechnung!F12) -> 39.24 | K12: =IF('Berechnung RLM'!$D$22>2500,Berechnung!I12,Berechnung!G12) -> 10.04 | M12: Leistungspreis | N12: =IF(N9=0,0,INDEX($J$9:$J$13,$N$9,0)*'Berechnung RLM'!$D$10) -> 0 | O12: €
C13: NS - NE 7 - Niederspannung | F13: ='Preisblatt 1 & 2'!F18 -> 53.75 | G13: ='Preisblatt 1 & 2'!G18 -> 11.26 | H13: ='Preisblatt 1 & 2'!H18 -> 254.54 | I13: ='Preisblatt 1 & 2'!I18 -> 3.23 | J13: =IF('Berechnung RLM'!$D$22>2500,Berechnung!H13,Berechnung!F13) -> 53.75 | K13: =IF('Berechnung RLM'!$D$22>2500,Berechnung!I13,Berechnung!G13) -> 11.26 | M13: Messpreis | N13: =IF(N9>2,IF('Berechnung RLM'!D18="ja",Berechnung!F63,F63+F64),IF('Berechnung RLM'!D18="ja",Berechnung!F61,F61+F62))*'Berechnung RLM'!$D$16 -> 0 | O13: €
B15: Preisblatt 2 | C15: Netzentgelte für Kunden ohne Leistungsmessung | H15: geltende MwSt.: | I15: 0.19
M16: Berechnung | N16: SLP
C17: Netzentgelte | F17: netto | G17: brutto | H17: netto | I17: brutto | M17: Kundengruppe | N17: =IF('Berechnung SLP'!$D$10="",0,MATCH('Berechnung SLP'!$D$10,Berechnung!$C$20:$C$22,0)) -> 0 | O17: =IF(AND('Berechnung SLP'!D14="nein",'Berechnung SLP'!D12="ab dem 01.01.2024"),1,Berechnung!N17) -> 0
C18: Kundengruppe | F18: Arbeitspreis | G18: Arbeitspreis | H18: Grundpreis | I18: Grundpreis | M18: Messgruppe | N18: =MATCH('Berechnung SLP'!$D$16,$C$71:$C$74,0) -> #N/A
F19: ct / kWh | G19: ct / kWh | H19: € / a | I19: € / a | M19: Zusatzgerät | N19: =MATCH('Berechnung SLP'!$D$22,Berechnung!$C$75:$C$77,0) -> #N/A
C20: Kleinkunden | F20: ='Preisblatt 1 & 2'!F25 -> 8.34 | G20: ='Preisblatt 1 & 2'!G25 -> 9.92 | H20: ='Preisblatt 1 & 2'!H25 -> 84 | I20: ='Preisblatt 1 & 2'!I25 -> 99.96 | M20: Arbeitspreis | N20: =(IF(O17=0,0,INDEX($F$20:$F$22,$O$17,0)*'Berechnung SLP'!D8)/100) -> 0 | O20: €
C21: Elektrospeicherheizung (bis 31.12.2023) | F21: ='Preisblatt 1 & 2'!F26 -> 1.98 | G21: ='Preisblatt 1 & 2'!G26 -> 2.36 | H21: ='Preisblatt 1 & 2'!H26 -> 0 | I21: ='Preisblatt 1 & 2'!I26 -> 0 | M21: Grundpreis | N21: =IF('Berechnung SLP'!D18="ja",0,INDEX($H$20:$H$22,$N$17,0)) -> 0 | O21: €
C22: Wärmepumpen (bis 31.12.2023) | F22: ='Preisblatt 1 & 2'!F27 -> 3.5 | G22: ='Preisblatt 1 & 2'!G27 -> 4.17 | H22: ='Preisblatt 1 & 2'!H27 -> 0 | I22: ='Preisblatt 1 & 2'!I27 -> 0 | M22: Messpreis | N22: =INDEX($F$71:$F$74,$N$18,0) -> #N/A | O22: €
M23: Zusatzgerät | N23: =INDEX($F$75:$F$77,$N$19,0) -> #N/A | O23: €
B24: Preisblatt 2a & 2b Netzentgelte für steuerbare Verbrauchseinrichtungen nach §14a EnWG
C25: bitte auswählen | M25: Berechnung
C26: pauschale Reduzierung | D26: ='Preisblatt 2a'!G18 -> 129.78 | E26: €/a | M26: =IF(F20*'Berechnung SLP'!D8/100-D26<0,0,F20*'Berechnung SLP'!D8/100-D26) -> 0
C27: prozentuale Reduzierung | D27: ='Preisblatt 2b'!F16 -> 3.34 | E27: ct/kWh | M27: =D27*'Berechnung SLP'!D8/100 -> 0
B29: Preisblatt 3 | C29: Monatsleistungssystem für Kunden mit registrierender Leistungsmessung1) | H29: gültig ab:
C31: Monatsleistungspreissystem | F31: Monatsleistungspreissystem
C32: Entnahme aus: | F32: Leistungspreis | G32: Arbeitspreis
F33: € / kW * Monat | G33: ct / kWh
C34: HS/MS - NE 4 - Umspannung Hoch-/Mittelspannung | F34: ='Preisblatt 3 & 4'!F14 -> 24.56 | G34: ='Preisblatt 3 & 4'!G14 -> 0.28
C35: MS - NE 5 - Mittelspannung | F35: ='Preisblatt 3 & 4'!F15 -> 40.7 | G35: ='Preisblatt 3 & 4'!G15 -> 0.04
C36: MS/NS - NE 6 - Umspannung Mittel-/Niederspannung | F36: ='Preisblatt 3 & 4'!F16 -> 41.56 | G36: ='Preisblatt 3 & 4'!G16 -> 1.64
C37: NS - NE 7 - Niederspannung | F37: ='Preisblatt 3 & 4'!F17 -> 42.42 | G37: ='Preisblatt 3 & 4'!G17 -> 3.23
B39: Preisblatt 4 | C39: Reservenetzkapazität für Kunden mit registrierender Leistungsmessung1)
C41: Reservenetzkapazität | F41: bis 200 h | G41: bis 400 h | H41: bis 600 h
C42: Entnahme aus: | F42: € / kW * a | G42: € / kW * a | H42: € / kW * a
C43: HS/MS - NE 4 - Umspannung Hoch-/Mittelspannung | F43: ='Preisblatt 3 & 4'!F27 -> 0 | G43: ='Preisblatt 3 & 4'!G27 -> 0 | H43: ='Preisblatt 3 & 4'!H27 -> 0
C44: MS - NE 5 - Mittelspannung | F44: ='Preisblatt 3 & 4'!F28 -> 61.83 | G44: ='Preisblatt 3 & 4'!G28 -> 74.2 | H44: ='Preisblatt 3 & 4'!H28 -> 86.57
C45: MS/NS - NE 6 - Umspannung Mittel-/Niederspannung | F45: ='Preisblatt 3 & 4'!F29 -> 56.08 | G45: ='Preisblatt 3 & 4'!G29 -> 67.29 | H45: ='Preisblatt 3 & 4'!H29 -> 78.51
C46: NS - NE 7 - Niederspannung | F46: ='Preisblatt 3 & 4'!F30 -> 134.38 | G46: ='Preisblatt 3 & 4'!G30 -> 161.26 | H46: ='Preisblatt 3 & 4'!H30 -> 188.13
B48: Preisblatt 5 | C48: Entgelte für Blindstrom/Blindarbeit
C50: Blindstrom | F50: induktiv | G50: kapazitiv | H50: Entgelt
C51: Entnahme aus: | F51: cos ϕ (phi) | G51: cos ϕ (phi) | H51: Ct / kVarh
C52: HS/MS - NE 4 - Umspannung Hoch-/Mittelspannung | F52: ='Preisblatt 3 & 4'!F40 -> 0 | G52: ='Preisblatt 3 & 4'!G40 -> 0 | H52: ='Preisblatt 3 & 4'!H40 -> 0
C53: MS - NE 5 - Mittelspannung | F53: ='Preisblatt 3 & 4'!F41 -> 0 | G53: ='Preisblatt 3 & 4'!G41 -> 0 | H53: ='Preisblatt 3 & 4'!H41 -> 0
C54: MS/NS - NE 6 - Umspannung Mittel-/Niederspannung | F54: ='Preisblatt 3 & 4'!F42 -> 0 | G54: ='Preisblatt 3 & 4'!G42 -> 0 | H54: ='Preisblatt 3 & 4'!H42 -> 0
C55: NS - NE 7 - Niederspannung | F55: ='Preisblatt 3 & 4'!F43 -> 0 | G55: ='Preisblatt 3 & 4'!G43 -> 0 | H55: ='Preisblatt 3 & 4'!H43 -> 0
B57: Preisblatt 6a | C57: Entgelte für Messstellenbetrieb2) inkl. Messung mit registrierender Leistungsmessung1)
C59: Entgelte | F59: Messstellenbetrieb inkl. Mess-DL
C60: Entgelt für Messung in … bzw. i. V. m.: | F60: € / a
C61: Mittelspannung (einschl. HS/MS) | F61: ='Preisblatt 5a & 5b'!F14 -> 471.62
C62: Preisabschlag für kundenseitig gest. Wandler | F62: ='Preisblatt 5a & 5b'!F15 -> 235.2
C63: Niederspannung (einschl. MS/NS) | F63: ='Preisblatt 5a & 5b'!F16 -> 364.44
C64: Preisabschlag für kundenseitig gest. Wandler | F64: ='Preisblatt 5a & 5b'!F17 -> 54.96
C65: Preisabschlag für kundenseitig gest. Kom.-einrichtung | F65: ='Preisblatt 5a & 5b'!F18 -> 0
B67: Preisblatt 6b | C67: Entgelte für Messstellenbetrieb3) inkl. Messung ohne registrierende Leistungsmessung1)
C69: Entgelte | F69: Messstellenbetrieb inkl. Mess-DL
C70: Entgelt für Messung mit: | F70: € / a
C71: Eintarifzählung | F71: ='Preisblatt 5a & 5b'!F24 -> 9.72
C72: Zweitarifzählung | F72: ='Preisblatt 5a & 5b'!F25 -> 15.67
C73: ='Preisblatt 5a & 5b'!C29 -> EDL21 | F73: ='Preisblatt 5a & 5b'!F29 -> 27.07
C74: ='Preisblatt 5a & 5b'!C28 -> Pauschalanlage | F74: ='Preisblatt 5a & 5b'!F28 -> 4.79
C75: Wandlersatz | F75: ='Preisblatt 5a & 5b'!F26 -> 54.96
C76: Schaltgeräte | F76: ='Preisblatt 5a & 5b'!F27 -> 9.57
C77: Wandlersatz und Schaltgerät | F77: =F75+F76 -> 64.53
C78: moderne Messeinrichtung | F78: 21.01
B79: 1 | C79: intelligentes Messystem bis 6000 kWh | F79: 25.21
B80: 2 | C80: intelligentes Messystem bis 10000 kWh | F80: 33.61
B81: 3 | C81: intelligentes Messystem bis 20000 kWh | F81: 42.016807
B82: 4 | C82: intelligentes Messystem bis 50000 kWh | F82: 92.44
B83: 5 | C83: intelligentes Messystem bis 100000 kWh | F83: 117.65
C85: Auswahl iMS | D85: =IF(OR('Berechnung SLP'!D8=0,'Berechnung SLP'!D18="nein",'Berechnung SLP'!D18=0),0,IF(AND('Berechnung SLP'!D8>0,'Berechnung SLP'!D8<=6000),Berechnung!F79,IF(AND('Berechnung SLP'!D8>6000,'Berechnung SLP'!D8<=10000),Berechnung!F80,IF(AND('Berechnung SLP'!D8>10000,'Berechnung SLP'!D8<=20000),Berechnung!F81,IF(AND('Berechnung SLP'!D8>20000,'Berechnung SLP'!D8<=50000),Berechnung!F82,F83))))) -> 0

Sheet Preisblatt 1 & 2
B3: vorläufiges Preisblatt 2026 der Netznutzungsentgelte der Netze Hechingen GmbH & Co.KG - Stand: 15.10.2025
B5: Entgelte Strom
B6: Preisblätter 1 - 6 für die Netznutzung (Strom) im Netzgebiet der Netze Hechingen GmbH & Co. KG | H6: erstellt am: | I6: 45945
H7: erstellt zum: | I7: 15.10.2025
H8: gültig ab: | I8: 46023
B10: Preisblatt 1 | C10: Netzentgelte für Kunden mit registrierender Leistungsmessung1)
C12: Jahresleistungspreissystem2),3) | F12: Jahresbenutzungsdauer < 2.500 bn | H12: Jahresbenutzungsdauer > 2.500 bn
C13: Entnahme aus: | F13: Leistungspreis | G13: Arbeitspreis | H13: Leistungspreis | I13: Arbeitspreis
F14: € / kW * a | G14: ct / kWh | H14: € / kW * a | I14: ct / kWh
C15: HS/MS - NE 4 - Umspannung Hoch-/Mittelspannung | F15: 17.19 | G15: 5.49 | H15: 147.36 | I15: 0.28
C16: MS - NE 5 - Mittelspannung4) | F16: 24.73 | G16: 8.81 | H16: 244.2 | I16: 0.04
C17: MS/NS - NE 6 - Umspannung Mittel-/Niederspannung | F17: 39.24 | G17: 10.04 | H17: 249.37 | I17: 1.64
C18: NS - NE 7 - Niederspannung | F18: 53.75 | G18: 11.26 | H18: 254.54 | I18: 3.23
B20: Preisblatt 2 | C20: Netzentgelte für Kunden ohne Leistungsmessung | H20: geltende MwSt.: | I20: 0.19
C22: Netzentgelte3),5) | F22: netto | G22: brutto | H22: netto | I22: brutto
C23: Kundengruppe | F23: Arbeitspreis | G23: Arbeitspreis | H23: Grundpreis | I23: Grundpreis
F24: ct / kWh | G24: ct / kWh | H24: € / a | I24: € / a
C25: Kleinkunden 8) | F25: 8.34 | G25: 9.92 | H25: 84 | I25: 99.96
C26: Elektrospeicherheizung6) | F26: 1.98 | G26: 2.36
C27: Wärmepumpen6) | F27: 3.5 | G27: 4.17
B29: 1) | C29: Zähleinrichtung (Drehstrom) mit Registrierung der 1/4-h-Leistungsmittelwerte
B30: 2) | C30: In diesen Entgelten sind die Kosten für die vorgelagerten Netze, die Systemdienstleistungen und die bei der Energieübertragung entstehenden Netzverluste enthalten.
B31: 3) | C31: Die Preise verstehen sich zuzüglich der Entgelte für: | G31: siehe auch:
C32: gesetzlich geltende Umsatzsteuer | G32: =CONCATENATE("z.Zt. ",I20*100,"%") -> z.Zt. 19%
C33: Messstellenbetrieb inkl. Messung | G33: Preisblatt 5a & 5b
C34: Konzessionsabgabe, KWK-Gesetz, §19- und § 17-Umlage aufgrund gesetzlicher Verordnungen | G34: Preisblatt 6
B35: 4) | C35: Bei Entnahme elektrischer Energie aus Mittelspannung und Erfassung durch eine niederspannungsseitige Messeinrichtung wird ein pauschaler Zuschlag in Höhe von 3 %
C36: aufgrund der Transformatorenverluste erhoben. Dieser Zuschlag gilt sowohl für die Arbeits- als auch für die Leistungswerte.
B37: 5) | C37: In den Entgelten (GP und AP) sind die Kosten für Netznutzung, die Systemdienstleistungen und die bei der Energieübertragung entstehenden Netzverluste enthalten.
B38: 6) | C38: Die unterbrechbaren Entnahmestellen ohne Leistungsmessung werden auf Basis von TLP (temperaturabhängige Lastprofile) beliefert, eine Begrenzung auf die
C39: bekannten 100.000 kWh für SLP-Kunden kann bei diesen Kundengruppen überschritten werden. Die Abrechnung der Netznutzung erfolgt ausschließlich im NS-
C40: Netz und durch das sogenannte Lastprofilverfahren für unterbrechbare Verbrauchseinrichtungen (uVE) der Netze Hechingen GmbH & Co. KG
B41: 7) | C41: Für den Eigenverbrauch der Gemeinde und die Straßenbeleuchtung wird der Kommunalrabatt gemäß § 3 Abs. 1 Nr. 1 KAV auf das Nettoentgelt i.H.v. 10% gewährt.
C42: Die Höhe der fälligen Umsatzsteuer bemisst sich nach dem unrabattierten Nettoentgelt für Kleinkunden.

Sheet Preisblatt 2a
C3: ='Preisblatt 1 & 2'!B3 -> vorläufiges Preisblatt 2026 der Netznutzungsentgelte der Netze Hechingen GmbH & Co.KG - Stand: 15.10.2025
C5: Entgelte Strom
C6: Preisblätter 1 - 6 für die Netznutzung (Strom) im Netzgebiet der Netze Hechingen GmbH & Co.KG | L6: erstellt am: | M6: ='Preisblatt 1 & 2'!I6 -> 45945
L7: erstellt zum: | M7: ='Preisblatt 1 & 2'!I7 -> 15.10.2025
L8: gültig ab: | M8: ='Preisblatt 1 & 2'!I8 -> 46023
C10: Preisblatt 2a | D10: Netzentgelte für steuerbare Verbrauchseinrichtungen gemäß § 14a EnWG nach Modul 1 | L10: geltende MwSt.: | M10: ='Preisblatt 1 & 2'!I20 -> 0.19
C12: Folgende Voraussetzungen sind für eine Vereinbarung zur netzorietierten Steuerung gemäß § 14a EnWG bei steuerbaren Verbrauchs- einrichtungen nach Abrechnungsmodul 1 einzuhalten: • bestehender Netznutzungsvertrag zwischen Netzbetreiber und Lieferant oder Letztverbraucher • technische Möglichkeit zur Reduzierung des netzwirksamen Leistungsbezugs der Verbrauchseinrichtung durch den Netzbetreiber zur Netzentlastung Zu steuerbaren Verbrauchseinrichtungen gehören Elektro-Wärmepumpen, nicht öffentliche Ladepunkte für Elektromobile, Anlagen zur Raumkühlung und Stromspeicher hinsichtlich des Stromverbrauchs (Einspeicherung) mit einem max. Leistungsbezug von mehr als 4,2 kW. Die Höhe der pauschalen Netzentgeltreduzierung nach Modul 1 darf das Netzentgelt, welches vom Betreiber ohne pauschale Reduzierung an dem Zählpunkt zu entrichten wäre, nicht übersteigen (negative Netzentgelte sind nicht möglich). Die Netzentgeltreduzierung wird jährlich gewährt. Pauschale Netzentgeltreduzierung für Betreiber einer steuerbaren Verbrauchseinrichtungen gem. Modul 1:
C13: pauschale Reduzierung 1) | F13: Netto (€/a) | K13: Brutto (€/a)
C14: Pauschale Netzentgeltreduzierung = | G14: 42.02 | H14: (Kosten iMS vgl. MsbG) | K14: 50
F15: + | G15: 25.21 | H15: (Kosten für die Steuerbox vgl. MsbG) | K15: 30
C16: =CONCATENATE("mit AP = ",'Preisblatt 1 & 2'!F25," ct/kWh") -> mit AP = 8,34 ct/kWh | F16: + | G16: =ROUND((3750*'Preisblatt 1 & 2'!F25*0.2)/100,2) -> 62.55 | H16: [3.750 kWh/a x AP x 0,2 (Stabilitätsprämie)] | K16: =ROUND(G16*(1+M10),2) -> 74.43
C17: (NS ohne Lastgangmessung)
C18: Maximale Reduzierung = | G18: =SUM(G14:G17) -> 129.78 | H18: €/a | K18: =SUM(K14:K16) -> 154.43
C19: Über den Installateur bzw. einen Energiedienstleister kann vor Ort die Verbrauchseinrichtung genau analysiert werden, welche Aufwendungen / Kosten auf den Kunden zukommen. Die Kosten für vorgelagerte Netzebenen, Abrechnung, Netzinfrastruktur, Bereitstellung der Systemdienstleistungen und Deckung der Übertragungsverluste sind in den Netzentgelten enthalten.
C21: 1) Die Preise verstehen sich zuzüglich der Entgelte für: | J21: siehe auch:
C22: gesetzlich geltende Umsatzsteuer | J22: z.Zt. 19%
C23: Messstellenbetrieb inkl. Messung | J23: Preisblatt 5a & 5b
C24: Konzessionsabgabe, KWK-Gesetz, §19- und § 17-Umlage aufgrund gesetzlicher Verordnungen | J24: Preisblatt 6
E76: Hinweis: Das Gesamtentgelt für die Entnahmestelle kann nicht unter 0 € sinken!

Sheet Preisblatt 2b
B3: ='Preisblatt 2a'!C3 -> vorläufiges Preisblatt 2026 der Netznutzungsentgelte der Netze Hechingen GmbH & Co.KG - Stand: 15.10.2025
B5: Entgelte Strom
B6: Preisblätter 1 - 6 für die Netznutzung (Strom) im Netzgebiet der Netze Hechingen GmbH & Co.KG | K6: erstellt am: | L6: ='Preisblatt 1 & 2'!I6 -> 45945
K7: erstellt zum: | L7: ='Preisblatt 1 & 2'!I7 -> 15.10.2025
K8: gültig ab: | L8: ='Preisblatt 1 & 2'!I8 -> 46023
B10: Preisblatt 2b | C10: Netzentgelte für steuerbare Verbrauchseinrichtungen gemäß § 14a EnWG nach Modul 2 | K10: geltende MwSt.: | L10: ='Preisblatt 1 & 2'!I20 -> 0.19
B12: Folgende Voraussetzungen sind für eine Vereinbarung zur netzorientierten Steuerung gemäß § 14a EnWG bei steuerbaren Verbrauchs- einrichtungen nach Abrechnungsmodul 2 einzuhalten: • bestehender Netznutzungsvertrag zwischen Netzbetreiber und Lieferant oder Letztverbraucher • technische Möglichkeit zur Reduzierung des netzwirksamen Leistungsbezugs der Verbrauchseinrichtung durch den Netzbetreiber zur Netzentlastung • steuerbare Verbrauchseinrichtung besitzt einen separaten Zähler und technischen Zählpunkt Zu steuerbaren Verbrauchseinrichtungen gehören Elektro-Wärmepumpen, nicht öffentliche Ladepunkte für Elektromobile, Anlagen zur Raumkühlung und Stromspeicher hinsichtlich des Stromverbrauchs (Einspeicherung) mit einem max. Leistungsbezug von mehr als 4,2 kW. Bei Wahl des Moduls 2 erfolgt eine prozentuale Reduzierung des Arbeitspreises für den Verbrauch der steuerbaren Verbrauchseinrichtung. Netzentgelte für Entnahmestellen mit steuerbaren Verbrauchseinrichtungen gem. Modul 2:
B13: prozentuale Reduzierung 1) | F13: netto | G13: brutto | H13: netto | I13: brutto
F14: Arbeitspreis | G14: Arbeitspreis | H14: Grundpreis | I14: Grundpreis
F15: ct / kWh | G15: ct / kWh | H15: € / a | I15: € / a
B16: Steuerbare Verbrauchseinrichtungen nach § 14a EnWG | F16: =ROUND('Preisblatt 1 & 2'!F25*0.4,2) -> 3.34 | G16: =ROUND(F16*(1+L10),2) -> 3.97
B18: Über den Installateur bzw. einen Energiedienstleister kann vor Ort die Verbrauchseinrichtung genau analysiert werden, welche Aufwendungen / Kosten auf den Kunden zukommen. Die Kosten für vorgelagerte Netzebenen, Abrechnung, Netzinfrastruktur, Bereitstellung der Systemdienstleistungen und Deckung der Übertragungsverluste sind in den Netzentgelten enthalten.
B20: 1) Die Preise verstehen sich zuzüglich der Entgelte für: | I20: siehe auch:
B21: ='Preisblatt 2a'!C22 -> gesetzlich geltende Umsatzsteuer | I21: z.Zt. 19%
B22: ='Preisblatt 2a'!C23 -> Messstellenbetrieb inkl. Messung | C22: ='Preisblatt 2a'!D23 -> 0 | D22: ='Preisblatt 2a'!E23 -> 0 | E22: ='Preisblatt 2a'!F23 -> 0 | I22: Preisblatt 5a & 5b
B23: ='Preisblatt 2a'!C24 -> Konzessionsabgabe, KWK-Gesetz, §19- und § 17-Umlage aufgrund gesetzlicher Verordnungen | I23: Preisblatt 6

Sheet Preisblatt 2c
B3: ='Preisblatt 2b'!B3 -> vorläufiges Preisblatt 2026 der Netznutzungsentgelte der Netze Hechingen GmbH & Co.KG - Stand: 15.10.2025
B5: Entgelte Strom
B6: Preisblätter 1 - 6 für die Netznutzung (Strom) im Netzgebiet der Netze Hechingen GmbH & Co. KG | K6: erstellt am: | L6: ='Preisblatt 1 & 2'!I6 -> 45945
K7: erstellt zum: | L7: ='Preisblatt 1 & 2'!I7 -> 15.10.2025
K8: gültig ab: | L8: ='Preisblatt 1 & 2'!I8 -> 46023
B10: Preisblatt 2c | C10: Netzentgelte für steuerbare Verbrauchseinrichtungen gemäß § 14a EnWG nach Modul 3 | K10: geltende MwSt.: | L10: ='Preisblatt 1 & 2'!I20 -> 0.19
B12: Folgende Voraussetzungen sind für eine Vereinbarung zur netzorientierten Steuerung gemäß § 14a EnWG bei steuerbaren Verbrauchseinrichtungen nach Abrechnungsmodul 3 einzuhalten: Das Modul 3 steht Anschlussnutzern, die keine RLM-Kunden sind, einzig in Kombination mit Modul 1 zur Verfügung. Zudem muss ein intelligentes Messsystem vorhanden sein. Die Zeitfenster mit den drei Netzentgelttarifen werden kalenderjährlich festgelegt und gelten für das gesamte Netzgebiet. Der Gültigkeitszeitraum von Modul 3 darf auf einzelne Quartale beschränkt werden, muss aber in mindestens zwei Quartalen eines Jahres abgerechnet werden. Gemäß der Festlegung BK8-22-010-A erfolgt die Abrechnung von Modul 3 erstmalig ab dem 01.04.2025. Netzentgelte für Entnahmestellen mit steuerbaren Verbrauchseinrichtungen gem. Modul 3:
B13: Gültigkeit der 3 Tarifstufen
B14: Quartale | C14: 01.01.-31.03. | D14: 01.04.-30.06. | E14: 01.07.-30.09. | F14: 01.10.-31.12.
B15: =YEAR(L8) -> 2026 | C15: ja | D15: nein | E15: nein | F15: ja
B17: zeitvariable Netzentgelte1) | D17: netto | E17: brutto | F17: Uhrzeiten
D18: Arbeitspreis | E18: Arbeitspreis
D19: ct / kWh | E19: ct / kWh
B20: Standardtarif | D20: ='Preisblatt 1 & 2'!F25 -> 8.34 | E20: =ROUND(D20*(1+L10),2) -> 9.92 | F20: 06:15 - 16:30 21:15 - 00:00
B21: Hochtarif | D21: 14.18 | E21: =ROUND(D21*(1+L10),2) -> 16.87 | F21: 16:45 - 21:00
B22: Niedrigtarif | D22: 1.65 | E22: =ROUND(D22*(1+L10),2) -> 1.96 | F22: 00:15 - 06:00
B24: Beispiel:
B25: 06:15 - 16:30 Uhr bedeutet Messwerte von 06:00:01 Uhr bis 16:30:00 Uhr
B27: Über den Installateur bzw. einen Energiedienstleister kann vor Ort die Verbrauchseinrichtung genau analysiert werden, welche Aufwendungen / Kosten auf den Kunden zukommen. Die Kosten für vorgelagerte Netzebenen, Abrechnung, Netzinfrastruktur, Bereitstellung der Systemdienstleistungen und Deckung der Übertragungsverluste sind in den Netzentgelten enthalten.
B29: 1) Die Preise verstehen sich zuzüglich der Entgelte für: | I29: siehe auch:
B30: gesetzlich geltende Umsatzsteuer | I30: z.Zt. 19%
B31: Messstellenbetrieb inkl. Messung | I31: Preisblatt 5a & 5b
B32: Konzessionsabgabe, KWK-Gesetz, §19- und § 17-Umlage aufgrund gesetzlicher Verordnungen | I32: Preisblatt 6

Sheet Preisblatt 3 & 4
B3: ='Preisblatt 1 & 2'!B3:I3 -> vorläufiges Preisblatt 2026 der Netznutzungsentgelte der Netze Hechingen GmbH & Co.KG - Stand: 15.10.2025
B5: Preisblatt 3 | C5: Monatsleistungssystem für Kunden mit registrierender Leistungsmessung1) | H5: gültig ab: | I5: ='Preisblatt 1 & 2'!I8 -> 46023
C7: Für Kunden mit einer zeitlich begrenzten hohen Leistungsaufnahme, der eine signifikant geringere oder gar keine Leistungsaufnahme in der verbleibenden
C8: Zeit gegenübersteht, bietet die Netze Hechingen GmbH & Co. KG diese Alternative zum Jahresleistungspreissystem (Preisblatt 1) an.
C9: Die Anmeldung nimmt vor Abrechnungsbeginn der Netzkunde vor.
C11: Monatsleistungspreissystem2),3) | F11: Monatsleistungspreissystem
C12: Entnahme aus: | F12: Leistungspreis | G12: Arbeitspreis
F13: € / kW * Monat | G13: ct / kWh
C14: HS/MS - NE 4 - Umspannung Hoch-/Mittelspannung | F14: =ROUND('Preisblatt 1 & 2'!H15/6,2) -> 24.56 | G14: ='Preisblatt 1 & 2'!I15 -> 0.28
C15: MS - NE 5 - Mittelspannung | F15: =ROUND('Preisblatt 1 & 2'!H16/6,2) -> 40.7 | G15: ='Preisblatt 1 & 2'!I16 -> 0.04
C16: MS/NS - NE 6 - Umspannung Mittel-/Niederspannung | F16: =ROUND('Preisblatt 1 & 2'!H17/6,2) -> 41.56 | G16: ='Preisblatt 1 & 2'!I17 -> 1.64
C17: NS - NE 7 - Niederspannung | F17: =ROUND('Preisblatt 1 & 2'!H18/6,2) -> 42.42 | G17: ='Preisblatt 1 & 2'!I18 -> 3.23
B19: Preisblatt 4 | C19: Reservenetzkapazität für Kunden mit registrierender Leistungsmessung1)
C21: Die Zeiten eines Ausfalles einer Erzeugungsanlage kann ein Netzkunde beim Netzbetreiber durch die Bestellung einer Netzreservekapazität absichern. Die
C22: Höhe der Netzreserve kann i.d.R. bis zur Netto-Engpassleistung der Erzeugungsanlage durch den Netznutzer in Anspruch genommen werden. Die Abrechnung
C23: durch den Netzbetreiber erfolgt nach einem Jahr auf Basis der in Anspruch genommenen Zeit (in Stunden). Unterjährigkeiten sind nicht gestattet.
C25: Reservenetzkapazität3) | F25: bis 200 h | G25: bis 400 h | H25: bis 600 h
C26: Entnahme aus: | F26: € / kW * a | G26: € / kW * a | H26: € / kW * a
C27: HS/MS - NE 4 - Umspannung Hoch-/Mittelspannung | F27: 0 | G27: 0 | H27: 0
C28: MS - NE 5 - Mittelspannung | F28: 61.83 | G28: 74.2 | H28: 86.57
C29: MS/NS - NE 6 - Umspannung Mittel-/Niederspannung | F29: 56.08 | G29: 67.29 | H29: 78.51
C30: NS - NE 7 - Niederspannung | F30: 134.38 | G30: 161.26 | H30: 188.13
B32: Preisblatt 5 | C32: Entgelte für Blindstrom/Blindarbeit
C34: Bei Kunden mit registrierender Leistungsmessung1) wird die Blindarbeit separat erfasst.
C35: Der Netzkunde hat dafür Sorge zu tragen, dass die festgelegten Grenzwerte gemäß den vertraglichen Regelungen eingehalten werden.
C37: Blindstrom4) | F37: induktiv | G37: kapazitiv | H37: Entgelt
C38: Entnahme aus: | F38: cos ϕ (phi) | G38: cos ϕ (phi) | H38: Ct / kVarh
C39: HS/MS - NE 4 - Umspannung Hoch-/Mittelspannung | F39: < 0,95 | G39: < 1,0 | H39: 1
C40: MS - NE 5 - Mittelspannung
C41: MS/NS - NE 6 - Umspannung Mittel-/Niederspannung
C42: NS - NE 7 - Niederspannung
B44: 1) | C44: Zähleinrichtung (Drehstrom) mit Registrierung der 1/4-h-Leistungsmittelwerte
B45: 2) | C45: In diesen Entgelten sind die Kosten für die vorgelagerten Netze, die Systemdienstleistungen und die bei der Energieübertragung entstehenden Netzverluste enthalten.
B46: 3) | C46: Die Preise verstehen sich zuzüglich der Entgelte für: | G46: siehe auch:
C47: gesetzlich geltende Umsatzsteuer | G47: z.Zt. 19%
C48: Messstellenbetrieb inkl. Messung | G48: Preisblatt 5a & 5b
C49: Konzessionsabgabe, KWK-Gesetz, §19-, § 18- und § 17-Umlage aufgrund gesetzlicher Verordnungen | G49: Preisblatt 6

Sheet Preisblatt 5a & 5b
B3: ='Preisblatt 1 & 2'!B3:I3 -> vorläufiges Preisblatt 2026 der Netznutzungsentgelte der Netze Hechingen GmbH & Co.KG - Stand: 15.10.2025
B5: Die Entgelte für Messeinrichtung gelten für:
B6: Kunden mit Leistungsmessung | D6: --> Preisblatt 5a | H6: erstellt am: | I6: ='Preisblatt 1 & 2'!I6 -> 45945
B7: Kunden ohne Leistungsmessung | D7: --> Preisblatt 5b | H7: erstellt zum: | I7: ='Preisblatt 1 & 2'!I7 -> 15.10.2025
H8: gültig ab: | I8: ='Preisblatt 1 & 2'!I8 -> 46023
B10: Preisblatt 5a | C10: Entgelte für Messstellenbetrieb2) inkl. Messung mit registrierender Leistungsmessung1)
C12: Entgelte4) | F12: Messstellenbetrieb inkl. Mess-DL
C13: Entgelt für Messung in … bzw. i. V. m.: | F13: € / a
C14: Mittelspannung (einschl. HS/MS) ohne Wandler | F14: 471.62
C15: Mittelspannungswandler | F15: 235.2
C16: Niederspannung (einschl. MS/NS) ohne Wandler | F16: 364.44
C17: Niederspannungswandler | F17: 54.96
C18: Preisabschlag für kundenseitig gest. Kom.-einrichtung | G18: 0
B20: Preisblatt 5b | C20: Entgelte für Messstellenbetrieb3) inkl. Messung ohne registrierende Leistungsmessung1)
C22: Entgelte4) | F22: Messstellenbetrieb inkl. Mess-DL
C23: Entgelt für Messung mit: | F23: € / a
C24: Eintarifzählung | F24: 9.72
C25: Zweitarifzählung | F25: 15.67
C26: Wandlersatz | F26: 54.96
C27: Schaltgeräte | F27: 9.57
C28: Pauschalanlage | F28: 4.79
C29: EDL21 | F29: 27.07
B31: 1) | C31: Zähleinrichtung (Drehstrom) mit Registrierung der 1/4-h-Leistungsmittelwerte
B32: 2) | C32: Das Entgelt für den Messstellenbetrieb umfasst den Einbau, den Betrieb und die Wartung der Messeinrichtung sowie das Entgelt für die Messung (tägliche Ab- bzw. Auslesung)
C33: der Messeinrichtung in Verbindung mit der Datenweitergabe an berechtigte Dritte.
B34: 3) | C34: Das Entgelt für den Messstellenbetrieb umfasst den Einbau, den Betrieb und die Wartung der Messeinrichtung sowie das Entgelt für die Messung (jährliche Ab- bzw. Auslesung)
C35: der Messeinrichtung in Verbindung mit der Datenweitergabe an berechtigte Dritte.
C36: Weitere Messungen werden erneut abgerechnet (z.B: auf Kundenwunsch), ausgenommen sind Messungen aufgrund von Lieferantenwechseln (z.B. durch Ein- bzw. Auszug, usw.)
B37: 4) | C37: Die Preise verstehen sich zuzüglich der Entgelte für die gesetzlich geltende Umsatzsteuer. | G37: z.Zt. 19%

Sheet Preisblatt 6
B3: ='Preisblatt 1 & 2'!B3 -> vorläufiges Preisblatt 2026 der Netznutzungsentgelte der Netze Hechingen GmbH & Co.KG - Stand: 15.10.2025
B5: Preisblatt 6 | C5: Konzessionsabgabe und gesetzliche Umlagen1,2) | D5: gültig ab: | E5: ='Preisblatt 1 & 2'!I8 -> 46023
C7: Konzessionsabgabe nach Konzessionsabgabeverordnung (KAV) | D7: in Gemeinden bis … Einwohner | E7: Abgabe in ct/kWh | H7: in Gemeinden bis … Einwohner | I7: Abgabe in ct/kWh2) | K7: in Gemeinden bis … Einwohner | L7: Abgabe in ct/kWh2) | N7: in Gemeinden über … Einwohner | O7: Abgabe in ct/kWh2)
C8: Strom, bei sonstigen Tariflieferungen der nicht als Schwachlaststrom geliefert wird | D8: 25000 | E8: 1.32 | H8: 100000 | I8: 1.59 | K8: 500000 | L8: 1.99 | N8: 500000 | O8: 2.39
C9: Strom, bei sonstigen Tariflieferungen der als Schwachlaststrom geliefert wird | D9: 25000 | E9: 0.61 | H9: 100000 | I9: 0.61 | K9: 500000 | L9: 0.61 | N9: 500000 | O9: 0.61
C10: Sondervertragskunden (mit registrierender Leistungsmessung4)) | D10: --- | E10: 0.11 | H10: --- | I10: 0.11 | K10: --- | L10: 0.11 | N10: --- | O10: 0.11
D12: Umlage in ct/kWh
C13: Offshore-Netzumlage nach § 17f Energiewirtschaftsgesetz (EnWG) | D13: in der jeweils veröffentlichten Höhe 3)
D15: Umlage in ct/kWh
C16: Umlage nach § 19 Abs. 2 Stromnetzentgeltverordnung (StromNEV) | D16: in der jeweils veröffentlichten Höhe 3)
D30: Umlage in ct/kWh
C31: KWKG-Umlage nach §§ 26-29 Kraft-Wärme-Kopplungsgesetz (KWKG) | D31: in der jeweils veröffentlichten Höhe 3)
B34: 1) | C34: Alle aufgeführten Preise sind Nettopreise und verstehen sich zuzüglich der gesetzlich geltenden Umsatzsteuer | E34: z.Zt. 19%
B35: 2) | C35: Die Konzessionsabgaben und die Umlagen sind in den Netzentgelten der Preisblätter 1 bis 5 nicht enthalten und werden zusätzlich berechnet.
B36: 3) | C36: Die Höhe der aktuell geltenden gesetzlichen Umlagen sowie weiterführende Informationen zu den Umlagen können der gemeinsamen Internetplattform der deutschen Übertragungsnetzbetreiber www.netztransparenz.de entnommen werden.
B37: 4) | C37: Zähleinrichtung (Drehstrom) mit Registrierung der 1/4-h-Leistungsmittelwerte
C39: Diese Auflistung dient nur zur Information und erhebt keinen Anspruch auf Vollständigkeit und Richtigkeit.
